BEGIN:VCALENDAR
VERSION:2.0
PRODID:-//La Capéchade - ECPv6.15.20//NONSGML v1.0//EN
CALSCALE:GREGORIAN
METHOD:PUBLISH
X-WR-CALNAME:La Capéchade
X-ORIGINAL-URL:https://lacapechade.org
X-WR-CALDESC:Évènements pour La Capéchade
REFRESH-INTERVAL;VALUE=DURATION:PT1H
X-Robots-Tag:noindex
X-PUBLISHED-TTL:PT1H
BEGIN:VTIMEZONE
TZID:Europe/Paris
BEGIN:DAYLIGHT
TZOFFSETFROM:+0100
TZOFFSETTO:+0200
TZNAME:CEST
DTSTART:20240331T010000
END:DAYLIGHT
BEGIN:STANDARD
TZOFFSETFROM:+0200
TZOFFSETTO:+0100
TZNAME:CET
DTSTART:20241027T010000
END:STANDARD
BEGIN:DAYLIGHT
TZOFFSETFROM:+0100
TZOFFSETTO:+0200
TZNAME:CEST
DTSTART:20250330T010000
END:DAYLIGHT
BEGIN:STANDARD
TZOFFSETFROM:+0200
TZOFFSETTO:+0100
TZNAME:CET
DTSTART:20251026T010000
END:STANDARD
BEGIN:DAYLIGHT
TZOFFSETFROM:+0100
TZOFFSETTO:+0200
TZNAME:CEST
DTSTART:20260329T010000
END:DAYLIGHT
BEGIN:STANDARD
TZOFFSETFROM:+0200
TZOFFSETTO:+0100
TZNAME:CET
DTSTART:20261025T010000
END:STANDARD
END:VTIMEZONE
BEGIN:VEVENT
DTSTART;TZID=Europe/Paris:20251206T100000
DTEND;TZID=Europe/Paris:20251206T170000
DTSTAMP:20260423T075036
CREATED:20251114T103329Z
LAST-MODIFIED:20251114T103412Z
UID:3222-1765015200-1765040400@lacapechade.org
SUMMARY:Marché de Noël de la Capéchade
DESCRIPTION:Le samedi 6 décembre 2025\, nous organisons un marché exceptionnel local et responsable pour fêter l’hiver dans le jardin du tiers-lieu de la Capéchade  (1 avenue de la Marine\, à Marseillan ). \nAu programme : \n\n–        Marché de producteurs et artisans locaux ( de 10h à 13h)\n–        Vide grenier (de 10h à 17h)\n–        Animations\, boissons chaudes et petites collations tout au long de la journée.\n\nNous vous attendons nombreux pour profiter de cette journée et venir faire le plein de gourmandises et de surprises ! Le marché ouvrira ses portes de 10h à 17h.
URL:https://lacapechade.org/agenda/marche-de-noel-de-la-capechade/
LOCATION:La Capechade\, 1 avenue de la Marine\, Marseillan\, 34340
ATTACH;FMTTYPE=image/png:https://lacapechade.org/wp-content/uploads/2025/11/marche-vide-grenier-noel-1.png
ORGANIZER;CN="La Cap%C3%A9chade":MAILTO:foodlab.marseillan@gmail.com
END:VEVENT
BEGIN:VEVENT
DTSTART;TZID=Europe/Paris:20251216T140000
DTEND;TZID=Europe/Paris:20251216T170000
DTSTAMP:20260423T075036
CREATED:20251113T153345Z
LAST-MODIFIED:20251113T153345Z
UID:3216-1765893600-1765904400@lacapechade.org
SUMMARY:Mardi Antigaspi
DESCRIPTION:Le principe de ces ateliers est de proposer des recettes anti-gaspi\, des trucs et astuces afin de diminuer les déchets alimentaires et réduire la quantité des aliments jetés\, mais aussi consommer des produits locaux qui respectent la saisonnalité et imaginer des manières de les conserver tout en les cuisinant.  \nEn pratique : trier les produits glanés et récupérés le matin même sur les fins de marché\, puis imaginer des façons créatives de les cuisiner sur place ou chez soi. Repartez avec de nouveaux ingrédients et des idées inspirantes ! \nAtelier ouvert à tous et à toutes\, participation libre.  \nPour plus d’infos et inscription : 07.50.68.06.16 ou accueil@lacapechade.org
URL:https://lacapechade.org/agenda/mardi-antigaspi-21/
LOCATION:La Capechade\, 1 avenue de la Marine\, Marseillan\, 34340
ATTACH;FMTTYPE=image/png:https://lacapechade.org/wp-content/uploads/2025/11/antigaspi-16-dec.png
ORGANIZER;CN="La Cap%C3%A9chade":MAILTO:foodlab.marseillan@gmail.com
END:VEVENT
END:VCALENDAR