BEGIN:VCALENDAR
VERSION:2.0
PRODID:-//La Capéchade - ECPv6.15.20//NONSGML v1.0//EN
CALSCALE:GREGORIAN
METHOD:PUBLISH
X-ORIGINAL-URL:https://lacapechade.org
X-WR-CALDESC:Évènements pour La Capéchade
REFRESH-INTERVAL;VALUE=DURATION:PT1H
X-Robots-Tag:noindex
X-PUBLISHED-TTL:PT1H
BEGIN:VTIMEZONE
TZID:Europe/Paris
BEGIN:DAYLIGHT
TZOFFSETFROM:+0100
TZOFFSETTO:+0200
TZNAME:CEST
DTSTART:20220327T010000
END:DAYLIGHT
BEGIN:STANDARD
TZOFFSETFROM:+0200
TZOFFSETTO:+0100
TZNAME:CET
DTSTART:20221030T010000
END:STANDARD
BEGIN:DAYLIGHT
TZOFFSETFROM:+0100
TZOFFSETTO:+0200
TZNAME:CEST
DTSTART:20230326T010000
END:DAYLIGHT
BEGIN:STANDARD
TZOFFSETFROM:+0200
TZOFFSETTO:+0100
TZNAME:CET
DTSTART:20231029T010000
END:STANDARD
BEGIN:DAYLIGHT
TZOFFSETFROM:+0100
TZOFFSETTO:+0200
TZNAME:CEST
DTSTART:20240331T010000
END:DAYLIGHT
BEGIN:STANDARD
TZOFFSETFROM:+0200
TZOFFSETTO:+0100
TZNAME:CET
DTSTART:20241027T010000
END:STANDARD
END:VTIMEZONE
BEGIN:VEVENT
DTSTART;TZID=Europe/Paris:20231128T183000
DTEND;TZID=Europe/Paris:20231128T210000
DTSTAMP:20260424T221503
CREATED:20231130T091657Z
LAST-MODIFIED:20231130T091657Z
UID:597-1701196200-1701205200@lacapechade.org
SUMMARY:Projection-débat
DESCRIPTION:Quelles solutions pour endiguer la spéculation foncière? Comment maintenir et développer des terres nourricières sur notre littoral? Quelles dispositions existent et quelles alternatives?  \n5 intervenants participeront au débat\, animé par Fanny Darbois :  \n\nMarie Ballestero\, élue à la transition écologique de Pézenas\,\nJulie Bertrand ADENA\, \nPierre Galizia\, directeur du service de l’aménagement de la SAM\, \nAurélien Daloz\, élu en charge de la transition écologique de la commune de Montbazin\, \nJacques André chef du service agriculture de la CAHM Communauté d’Agde Hérault Méditerranée\,\n\nUne soirée projection-débat\, organisée par la Capéchade le mardi 28 novembre de 19 à 21h\, à la Maison Noilly Prat\, à prix libre. \nRéservez vos places au plus vite! 
URL:https://lacapechade.org/agenda/projection-debat/
LOCATION:Maison Noilly Prat\, 1 rue Noilly\, Marseillan\, 34340
CATEGORIES:Projection-Débat
ATTACH;FMTTYPE=image/png:https://lacapechade.org/wp-content/uploads/2023/11/Projection-Debat-4.png
END:VEVENT
END:VCALENDAR