BEGIN:VCALENDAR
VERSION:2.0
PRODID:-//La Capéchade - ECPv6.15.20//NONSGML v1.0//EN
CALSCALE:GREGORIAN
METHOD:PUBLISH
X-ORIGINAL-URL:https://lacapechade.org
X-WR-CALDESC:Évènements pour La Capéchade
REFRESH-INTERVAL;VALUE=DURATION:PT1H
X-Robots-Tag:noindex
X-PUBLISHED-TTL:PT1H
BEGIN:VTIMEZONE
TZID:Europe/Paris
BEGIN:DAYLIGHT
TZOFFSETFROM:+0100
TZOFFSETTO:+0200
TZNAME:CEST
DTSTART:20250330T010000
END:DAYLIGHT
BEGIN:STANDARD
TZOFFSETFROM:+0200
TZOFFSETTO:+0100
TZNAME:CET
DTSTART:20251026T010000
END:STANDARD
BEGIN:DAYLIGHT
TZOFFSETFROM:+0100
TZOFFSETTO:+0200
TZNAME:CEST
DTSTART:20260329T010000
END:DAYLIGHT
BEGIN:STANDARD
TZOFFSETFROM:+0200
TZOFFSETTO:+0100
TZNAME:CET
DTSTART:20261025T010000
END:STANDARD
BEGIN:DAYLIGHT
TZOFFSETFROM:+0100
TZOFFSETTO:+0200
TZNAME:CEST
DTSTART:20270328T010000
END:DAYLIGHT
BEGIN:STANDARD
TZOFFSETFROM:+0200
TZOFFSETTO:+0100
TZNAME:CET
DTSTART:20271031T010000
END:STANDARD
END:VTIMEZONE
BEGIN:VEVENT
DTSTART;TZID=Europe/Paris:20260312T190000
DTEND;TZID=Europe/Paris:20260312T210000
DTSTAMP:20260421T113543
CREATED:20260211T151304Z
LAST-MODIFIED:20260311T141104Z
UID:3424-1773342000-1773349200@lacapechade.org
SUMMARY:Diners de la Capéchade : Un Diner Sénégalais !
DESCRIPTION:🍽 Les dîners de la Capéchade présentent : le Dîner Sénégalais\n✨ Souvenirs de vacances d’Arlette \nLa Capéchade vous invite à un nouveau moment convivial et gourmand autour d’un dîner thématique préparé par une équipe de bénévoles. \n📅 Jeudi 12 mars à 19h\n📍 Salle commune – La Capéchade \nAu menu : \n\nFataya (beignets bœuf/oignon)\nYassa de poulet et son accompagnement\nSalade de fruits\nJus de Bissap\n(Menu complet sans alcool)\n\n👥 Places limitées à 16 personnes (hors équipe cuisine)\n💶 Tarif : 20 € adhérent / 25 € conjoint non adhérent\n👉 Réservation et paiement obligatoires (via formulaire) \nUn dîner chaleureux pour voyager le temps d’une soirée et partager un bon moment ensemble 🌍🍴 \n📞 Infos & réservations : 07 50 68 06 16
URL:https://lacapechade.org/agenda/diners-de-la-capechade-un-diner-senegalais/
LOCATION:La Capechade\, 1 avenue de la Marine\, Marseillan\, 34340
ATTACH;FMTTYPE=image/png:https://lacapechade.org/wp-content/uploads/2026/02/diner-senegalais-1.png
ORGANIZER;CN="La Cap%C3%A9chade":MAILTO:foodlab.marseillan@gmail.com
END:VEVENT
END:VCALENDAR