BEGIN:VCALENDAR
VERSION:2.0
PRODID:-//La Capéchade - ECPv6.15.20//NONSGML v1.0//EN
CALSCALE:GREGORIAN
METHOD:PUBLISH
X-ORIGINAL-URL:https://lacapechade.org
X-WR-CALDESC:Évènements pour La Capéchade
REFRESH-INTERVAL;VALUE=DURATION:PT1H
X-Robots-Tag:noindex
X-PUBLISHED-TTL:PT1H
BEGIN:VTIMEZONE
TZID:Europe/Paris
BEGIN:DAYLIGHT
TZOFFSETFROM:+0100
TZOFFSETTO:+0200
TZNAME:CEST
DTSTART:20230326T010000
END:DAYLIGHT
BEGIN:STANDARD
TZOFFSETFROM:+0200
TZOFFSETTO:+0100
TZNAME:CET
DTSTART:20231029T010000
END:STANDARD
BEGIN:DAYLIGHT
TZOFFSETFROM:+0100
TZOFFSETTO:+0200
TZNAME:CEST
DTSTART:20240331T010000
END:DAYLIGHT
BEGIN:STANDARD
TZOFFSETFROM:+0200
TZOFFSETTO:+0100
TZNAME:CET
DTSTART:20241027T010000
END:STANDARD
BEGIN:DAYLIGHT
TZOFFSETFROM:+0100
TZOFFSETTO:+0200
TZNAME:CEST
DTSTART:20250330T010000
END:DAYLIGHT
BEGIN:STANDARD
TZOFFSETFROM:+0200
TZOFFSETTO:+0100
TZNAME:CET
DTSTART:20251026T010000
END:STANDARD
END:VTIMEZONE
BEGIN:VEVENT
DTSTART;TZID=Europe/Paris:20241012T000000
DTEND;TZID=Europe/Paris:20241012T235959
DTSTAMP:20260421T140123
CREATED:20241001T090327Z
LAST-MODIFIED:20241001T092448Z
UID:2436-1728691200-1728777599@lacapechade.org
SUMMARY:Participez à nos journées de Cueillette et Atelier cuisine avec l'olivier de Bohème ! 🌱🍽️
DESCRIPTION:Dates : 12 octobre 2024\nHoraires de la cueillette : 9h00 – 12h00\nHoraires de l’atelier cuisine : 14h00 – 16h00\nLieu : à définir lors de l’inscription \n  \nLa Capéchade vous invite à une journée unique consacrée à la l’olivier de Bohème ! Venez nous aider à réguler cette plante envahissante et explorez des recettes innovantes avec des fruits que vous aurez récolté vous-même. \n  \nProgramme de la Journée\n1. Cueillette des Fruits de l’olivier de Bohème\nQuand : 9h00 – 12h00\nOù : lieu à définir lors de l’inscription \nRejoignez-nous pour une session de cueillette. Votre aide est précieuse pour limiter la propagation de cette plante envahissante et préserver notre écosystème local. \n–> Le lieu de rendez-vous vous sera confirmé après inscription. \n2. Atelier Cuisine avec Recherche de Recettes\nQuand : 14h00 – 16h00\nOù : La Capéchade\, 1 av. de la Marine\, 34340 Marseillan \nAprès la cueillette\, participez à notre atelier de cuisine interactif ! Un groupe de recherche de recettes\, formé par des adhérents passionnés de La Capéchade\, vous guidera tout au long de l’atelier. L’objectif est de travailler ensemble pour découvrir et élaborer des recettes créatives avec les fruits de l’olivier de Bohème. Vous aurez l’occasion de proposer vos idées et de bénéficier des conseils de notre groupe. \n  \nPourquoi participer ?\n\nAidez à protéger notre environnement en régulant une espèce envahissante.\nExpérimentez la création de recettes originales et savoureuses sous l’œil expert de notre groupe de recherche.\nPassez une journée conviviale en plein air et rencontrez d’autres passionnés de nature et de cuisine.\n\nComment s’inscrire ?\nPour participer à ces événements\, veuillez nous contacter pour vous inscrire à thaubserve@lacapechade.org. On vous y attend nombreux ! \nPour plus d’informations\, visitez la page projet de l’étude action et suivez-nous sur nos réseaux sociaux pour ne rien manquer des dernières nouvelles.
URL:https://lacapechade.org/agenda/participez-a-nos-journees-de-cueillette-et-atelier-cuisine-avec-lolivier-de-boheme-%f0%9f%8c%b1%f0%9f%8d%bd%ef%b8%8f/
LOCATION:La Capechade\, 1 avenue de la Marine\, Marseillan\, 34340
CATEGORIES:Sortie
ATTACH;FMTTYPE=image/jpeg:https://lacapechade.org/wp-content/uploads/2024/10/20240913_091431-scaled.jpg
ORGANIZER;CN="La Cap%C3%A9chade":MAILTO:foodlab.marseillan@gmail.com
END:VEVENT
END:VCALENDAR