BEGIN:VCALENDAR
VERSION:2.0
PRODID:-//La Capéchade - ECPv6.15.20//NONSGML v1.0//EN
CALSCALE:GREGORIAN
METHOD:PUBLISH
X-ORIGINAL-URL:https://lacapechade.org
X-WR-CALDESC:Évènements pour La Capéchade
REFRESH-INTERVAL;VALUE=DURATION:PT1H
X-Robots-Tag:noindex
X-PUBLISHED-TTL:PT1H
BEGIN:VTIMEZONE
TZID:Europe/Paris
BEGIN:DAYLIGHT
TZOFFSETFROM:+0100
TZOFFSETTO:+0200
TZNAME:CEST
DTSTART:20230326T010000
END:DAYLIGHT
BEGIN:STANDARD
TZOFFSETFROM:+0200
TZOFFSETTO:+0100
TZNAME:CET
DTSTART:20231029T010000
END:STANDARD
BEGIN:DAYLIGHT
TZOFFSETFROM:+0100
TZOFFSETTO:+0200
TZNAME:CEST
DTSTART:20240331T010000
END:DAYLIGHT
BEGIN:STANDARD
TZOFFSETFROM:+0200
TZOFFSETTO:+0100
TZNAME:CET
DTSTART:20241027T010000
END:STANDARD
BEGIN:DAYLIGHT
TZOFFSETFROM:+0100
TZOFFSETTO:+0200
TZNAME:CEST
DTSTART:20250330T010000
END:DAYLIGHT
BEGIN:STANDARD
TZOFFSETFROM:+0200
TZOFFSETTO:+0100
TZNAME:CET
DTSTART:20251026T010000
END:STANDARD
END:VTIMEZONE
BEGIN:VEVENT
DTSTART;TZID=Europe/Paris:20240205T140000
DTEND;TZID=Europe/Paris:20240205T180000
DTSTAMP:20260423T021539
CREATED:20240201T141536Z
LAST-MODIFIED:20240201T141536Z
UID:1916-1707141600-1707156000@lacapechade.org
SUMMARY:Permanence numérique épicerie participative
DESCRIPTION:L’actualité nous le rappelle tous les jours\, il est plus que temps de consommer responsable et soutenir notre agriculture locale!\nL’épicerie participative de Marseillan\, c’est une alternative à la consommation!\nIci\, vos précommandes permettent de soutenir le travail des agriculteurs et artisans locaux et les principes participatifs proposent des produits de qualité au « prix juste » pour les producteurs et accessibles au plus grand nombre.\n– En vous inscrivant à l’épicerie participative de la Capéchade\, non seulement vous allez vous régaler\, mais vous allez soutenir les petits agriculteurs locaux !\n– En participant à l’épicerie\, faire vos courses devient un moment de belles rencontres et de convivialité !\n– Rendez-vous tous les lundis de février\, de 14h à 18h au Foodlab (1 avenue de la Marine) pour vous inscrire et faire vos premières commandes !\nEt rendez-vous tous les vendredis de 16h à 20h\, pour venir à l’épicerie retirer vos commandes et découvrir les nouveaux produits en rayon ! (le local de l’épicerie provisoire se trouve 2 bis boulevard Pauline-Bouisson\, passage par le parc Gaujal).
URL:https://lacapechade.org/agenda/permanence-numerique-epicerie-participative/
LOCATION:La Capechade\, 1 avenue de la Marine\, Marseillan\, 34340
CATEGORIES:Épicerie
ATTACH;FMTTYPE=application/pdf:https://lacapechade.org/wp-content/uploads/2024/02/Presentation-Marketing-Minimaliste-Moderne-Noir-et-Gris.pdf
ORGANIZER;CN="La Cap%C3%A9chade":MAILTO:foodlab.marseillan@gmail.com
END:VEVENT
BEGIN:VEVENT
DTSTART;TZID=Europe/Paris:20240209T160000
DTEND;TZID=Europe/Paris:20240209T200000
DTSTAMP:20260423T021539
CREATED:20240129T141903Z
LAST-MODIFIED:20240129T141903Z
UID:1832-1707494400-1707508800@lacapechade.org
SUMMARY:Épicerie Participative
DESCRIPTION:L’épicerie participative de Marseillan\, le Marché de la Capéchade\, est ouvert tout les vendredis de 16h à 20h \nUne épicerie participative est gérée par ses adhérents\, et permet d’accéder à des produits de qualités à un prix juste tout en soutenant les producteurs locaux. Si vous avez eu l’occasion de passer sur l’un des marchés de la Capéchade de l’automne 2023\, vous aurez eu la chance de croiser quelques-uns de ces producteurs et artisans partenaires et gouter leurs excellents produits. Vous retrouverez tous leurs produits et plus encore à l’épicerie participative « le marché de la Capéchade ». \nIci\, vos achats contribuent à soutenir un système alimentaire plus durable et solidaire\, et venir à l’épicerie devient un moment de rencontre et de convivialité.
URL:https://lacapechade.org/agenda/epicerie-participative-2/
LOCATION:Épicerie\, 2bis Boulevard Pauline Bouisson\, Marseillan\, 34340\, France
CATEGORIES:Épicerie
ATTACH;FMTTYPE=image/jpeg:https://lacapechade.org/wp-content/uploads/2024/01/IMG_3648-scaled.jpeg
ORGANIZER;CN="La Cap%C3%A9chade":MAILTO:foodlab.marseillan@gmail.com
END:VEVENT
BEGIN:VEVENT
DTSTART;TZID=Europe/Paris:20240216T160000
DTEND;TZID=Europe/Paris:20240216T200000
DTSTAMP:20260423T021539
CREATED:20240129T142041Z
LAST-MODIFIED:20240129T142041Z
UID:1846-1708099200-1708113600@lacapechade.org
SUMMARY:Épicerie Participative
DESCRIPTION:L’épicerie participative de Marseillan\, le Marché de la Capéchade\, est ouvert tout les vendredis de 16h à 20h \nUne épicerie participative est gérée par ses adhérents\, et permet d’accéder à des produits de qualités à un prix juste tout en soutenant les producteurs locaux. Si vous avez eu l’occasion de passer sur l’un des marchés de la Capéchade de l’automne 2023\, vous aurez eu la chance de croiser quelques-uns de ces producteurs et artisans partenaires et gouter leurs excellents produits. Vous retrouverez tous leurs produits et plus encore à l’épicerie participative « le marché de la Capéchade ». \nIci\, vos achats contribuent à soutenir un système alimentaire plus durable et solidaire\, et venir à l’épicerie devient un moment de rencontre et de convivialité.
URL:https://lacapechade.org/agenda/epicerie-participative-3/
LOCATION:Épicerie\, 2bis Boulevard Pauline Bouisson\, Marseillan\, 34340\, France
CATEGORIES:Épicerie
ATTACH;FMTTYPE=image/jpeg:https://lacapechade.org/wp-content/uploads/2024/01/IMG_3648-scaled.jpeg
ORGANIZER;CN="La Cap%C3%A9chade":MAILTO:foodlab.marseillan@gmail.com
END:VEVENT
BEGIN:VEVENT
DTSTART;TZID=Europe/Paris:20240223T160000
DTEND;TZID=Europe/Paris:20240223T190000
DTSTAMP:20260423T021539
CREATED:20240129T142105Z
LAST-MODIFIED:20240220T155810Z
UID:1848-1708704000-1708714800@lacapechade.org
SUMMARY:Épicerie Participative
DESCRIPTION:L’épicerie participative de Marseillan\, le Marché de la Capéchade\, est ouvert tout les vendredis de 16h à 20h \nUne épicerie participative est gérée par ses adhérents\, et permet d’accéder à des produits de qualités à un prix juste tout en soutenant les producteurs locaux. Si vous avez eu l’occasion de passer sur l’un des marchés de la Capéchade de l’automne 2023\, vous aurez eu la chance de croiser quelques-uns de ces producteurs et artisans partenaires et gouter leurs excellents produits. Vous retrouverez tous leurs produits et plus encore à l’épicerie participative « le marché de la Capéchade ». \nIci\, vos achats contribuent à soutenir un système alimentaire plus durable et solidaire\, et venir à l’épicerie devient un moment de rencontre et de convivialité.
URL:https://lacapechade.org/agenda/epicerie-participative-4/
LOCATION:Épicerie\, 2bis Boulevard Pauline Bouisson\, Marseillan\, 34340\, France
CATEGORIES:Épicerie
ATTACH;FMTTYPE=image/jpeg:https://lacapechade.org/wp-content/uploads/2024/01/IMG_3648-scaled.jpeg
ORGANIZER;CN="La Cap%C3%A9chade":MAILTO:foodlab.marseillan@gmail.com
END:VEVENT
END:VCALENDAR