BEGIN:VCALENDAR
VERSION:2.0
PRODID:-//La Capéchade - ECPv6.15.20//NONSGML v1.0//EN
CALSCALE:GREGORIAN
METHOD:PUBLISH
X-ORIGINAL-URL:https://lacapechade.org
X-WR-CALDESC:Évènements pour La Capéchade
REFRESH-INTERVAL;VALUE=DURATION:PT1H
X-Robots-Tag:noindex
X-PUBLISHED-TTL:PT1H
BEGIN:VTIMEZONE
TZID:Europe/Paris
BEGIN:DAYLIGHT
TZOFFSETFROM:+0100
TZOFFSETTO:+0200
TZNAME:CEST
DTSTART:20240331T010000
END:DAYLIGHT
BEGIN:STANDARD
TZOFFSETFROM:+0200
TZOFFSETTO:+0100
TZNAME:CET
DTSTART:20241027T010000
END:STANDARD
BEGIN:DAYLIGHT
TZOFFSETFROM:+0100
TZOFFSETTO:+0200
TZNAME:CEST
DTSTART:20250330T010000
END:DAYLIGHT
BEGIN:STANDARD
TZOFFSETFROM:+0200
TZOFFSETTO:+0100
TZNAME:CET
DTSTART:20251026T010000
END:STANDARD
BEGIN:DAYLIGHT
TZOFFSETFROM:+0100
TZOFFSETTO:+0200
TZNAME:CEST
DTSTART:20260329T010000
END:DAYLIGHT
BEGIN:STANDARD
TZOFFSETFROM:+0200
TZOFFSETTO:+0100
TZNAME:CET
DTSTART:20261025T010000
END:STANDARD
END:VTIMEZONE
BEGIN:VEVENT
DTSTART;TZID=Europe/Paris:20250911T183000
DTEND;TZID=Europe/Paris:20250911T210000
DTSTAMP:20260421T182942
CREATED:20250904T143906Z
LAST-MODIFIED:20250904T143906Z
UID:3026-1757615400-1757624400@lacapechade.org
SUMMARY:Apéritif participatif et rencontre
DESCRIPTION:Un moment de convivialité et de partage ouvert à tous ou chacun apporte une spécialité\, un grignotage ou une bonne bouteille à partager. Un apéritif permettant aux nouveaux arrivants de visiter notre tiers lieu et découvrir nos activités. Soyez les bienvenus ! \nRendez-vous dans le jardin de la Capéchade dès 18h30 ! \n  \nAdresse : 1 avenue de la Marine\, 343430 Marseillan \nInfos supplémentaires : 07 50 68 06 16 ou accueil@lacapechade.org
URL:https://lacapechade.org/agenda/aperitif-participatif-et-rencontre/
LOCATION:La Capechade\, 1 avenue de la Marine\, Marseillan\, 34340
CATEGORIES:Événement associatif,Événement festif,Jardin
ATTACH;FMTTYPE=image/png:https://lacapechade.org/wp-content/uploads/2025/09/AfficheApero.png
ORGANIZER;CN="La Cap%C3%A9chade":MAILTO:foodlab.marseillan@gmail.com
END:VEVENT
END:VCALENDAR