BEGIN:VCALENDAR
VERSION:2.0
PRODID:-//La Capéchade - ECPv6.15.20//NONSGML v1.0//EN
CALSCALE:GREGORIAN
METHOD:PUBLISH
X-ORIGINAL-URL:https://lacapechade.org
X-WR-CALDESC:Évènements pour La Capéchade
REFRESH-INTERVAL;VALUE=DURATION:PT1H
X-Robots-Tag:noindex
X-PUBLISHED-TTL:PT1H
BEGIN:VTIMEZONE
TZID:Europe/Paris
BEGIN:DAYLIGHT
TZOFFSETFROM:+0100
TZOFFSETTO:+0200
TZNAME:CEST
DTSTART:20230326T010000
END:DAYLIGHT
BEGIN:STANDARD
TZOFFSETFROM:+0200
TZOFFSETTO:+0100
TZNAME:CET
DTSTART:20231029T010000
END:STANDARD
BEGIN:DAYLIGHT
TZOFFSETFROM:+0100
TZOFFSETTO:+0200
TZNAME:CEST
DTSTART:20240331T010000
END:DAYLIGHT
BEGIN:STANDARD
TZOFFSETFROM:+0200
TZOFFSETTO:+0100
TZNAME:CET
DTSTART:20241027T010000
END:STANDARD
BEGIN:DAYLIGHT
TZOFFSETFROM:+0100
TZOFFSETTO:+0200
TZNAME:CEST
DTSTART:20250330T010000
END:DAYLIGHT
BEGIN:STANDARD
TZOFFSETFROM:+0200
TZOFFSETTO:+0100
TZNAME:CET
DTSTART:20251026T010000
END:STANDARD
END:VTIMEZONE
BEGIN:VEVENT
DTSTART;TZID=Europe/Paris:20240614T160000
DTEND;TZID=Europe/Paris:20240614T190000
DTSTAMP:20260422T151923
CREATED:20240506T074225Z
LAST-MODIFIED:20240507T144822Z
UID:2084-1718380800-1718391600@lacapechade.org
SUMMARY:Les Marchés saisonniers
DESCRIPTION:Le 24 mai\,  le 7 et 14 juin\, de 16h à 19h\, la Capéchade organise ses marchés saisonniers ! \nTrois dates pour venir rencontrer les producteurs et artisans partenaires de l’association\, et gouter les produits proposés dans le cadre de l’épicerie participative. \nPour ce printemps\, les rendez vous auront lieux dans le Parc Gaujal de Marseillan (2 bd Pauline Bouisson). Un marché de producteurs et artisans locaux\, un projet collectif consommateurs et producteurs en circuit court pour accéder à des produits de qualité à prix coutants! Les marchés de la Capéchade sont en entrée libre.
URL:https://lacapechade.org/agenda/les-marches-saisonniers-2/
LOCATION:Le parc Gaujal\, 2 Boulevard Pauline Bouisson\, Marseillan\, 34340\, France
CATEGORIES:Épicerie,Événement associatif,Événement festif,Lieux
ATTACH;FMTTYPE=image/png:https://lacapechade.org/wp-content/uploads/2024/05/24-mai-7-14-juin-2024-de-16h-a-19h-e1714981091526.png
ORGANIZER;CN="La Cap%C3%A9chade":MAILTO:foodlab.marseillan@gmail.com
END:VEVENT
END:VCALENDAR