BEGIN:VCALENDAR
VERSION:2.0
PRODID:-//La Capéchade - ECPv6.15.20//NONSGML v1.0//EN
CALSCALE:GREGORIAN
METHOD:PUBLISH
X-ORIGINAL-URL:https://lacapechade.org
X-WR-CALDESC:Évènements pour La Capéchade
REFRESH-INTERVAL;VALUE=DURATION:PT1H
X-Robots-Tag:noindex
X-PUBLISHED-TTL:PT1H
BEGIN:VTIMEZONE
TZID:Europe/Paris
BEGIN:DAYLIGHT
TZOFFSETFROM:+0100
TZOFFSETTO:+0200
TZNAME:CEST
DTSTART:20230326T010000
END:DAYLIGHT
BEGIN:STANDARD
TZOFFSETFROM:+0200
TZOFFSETTO:+0100
TZNAME:CET
DTSTART:20231029T010000
END:STANDARD
BEGIN:DAYLIGHT
TZOFFSETFROM:+0100
TZOFFSETTO:+0200
TZNAME:CEST
DTSTART:20240331T010000
END:DAYLIGHT
BEGIN:STANDARD
TZOFFSETFROM:+0200
TZOFFSETTO:+0100
TZNAME:CET
DTSTART:20241027T010000
END:STANDARD
BEGIN:DAYLIGHT
TZOFFSETFROM:+0100
TZOFFSETTO:+0200
TZNAME:CEST
DTSTART:20250330T010000
END:DAYLIGHT
BEGIN:STANDARD
TZOFFSETFROM:+0200
TZOFFSETTO:+0100
TZNAME:CET
DTSTART:20251026T010000
END:STANDARD
END:VTIMEZONE
BEGIN:VEVENT
DTSTART;TZID=Europe/Paris:20240705T150000
DTEND;TZID=Europe/Paris:20240705T180000
DTSTAMP:20260422T122944
CREATED:20240626T083130Z
LAST-MODIFIED:20240626T083130Z
UID:2169-1720191600-1720202400@lacapechade.org
SUMMARY:Épicerie Participative
DESCRIPTION:L’épicerie participative de Marseillan\, le Marché de la Capéchade\, est ouvert tout les vendredis de 15h à 18h \nUne épicerie participative est gérée par ses adhérents\, et permet d’accéder à des produits de qualités à un prix juste tout en soutenant les producteurs locaux. Si vous avez eu l’occasion de passer sur l’un des marchés de la Capéchade de l’automne 2023\, vous aurez eu la chance de croiser quelques-uns de ces producteurs et artisans partenaires et gouter leurs excellents produits. Vous retrouverez tous leurs produits et plus encore à l’épicerie participative « le marché de la Capéchade ». \nIci\, vos achats contribuent à soutenir un système alimentaire plus durable et solidaire\, et venir à l’épicerie devient un moment de rencontre et de convivialité.
URL:https://lacapechade.org/agenda/epicerie-participative-20/
LOCATION:Épicerie\, 2bis Boulevard Pauline Bouisson\, Marseillan\, 34340\, France
CATEGORIES:Épicerie
ATTACH;FMTTYPE=image/jpeg:https://lacapechade.org/wp-content/uploads/2024/06/PHOTO-2024-04-11-17-49-53-e1719390642265.jpg
ORGANIZER;CN="La Cap%C3%A9chade":MAILTO:foodlab.marseillan@gmail.com
END:VEVENT
BEGIN:VEVENT
DTSTART;TZID=Europe/Paris:20240712T150000
DTEND;TZID=Europe/Paris:20240712T180000
DTSTAMP:20260422T122944
CREATED:20240626T083152Z
LAST-MODIFIED:20240626T083152Z
UID:2171-1720796400-1720807200@lacapechade.org
SUMMARY:Épicerie Participative
DESCRIPTION:L’épicerie participative de Marseillan\, le Marché de la Capéchade\, est ouvert tout les vendredis de 15h à 18h \nUne épicerie participative est gérée par ses adhérents\, et permet d’accéder à des produits de qualités à un prix juste tout en soutenant les producteurs locaux. Si vous avez eu l’occasion de passer sur l’un des marchés de la Capéchade de l’automne 2023\, vous aurez eu la chance de croiser quelques-uns de ces producteurs et artisans partenaires et gouter leurs excellents produits. Vous retrouverez tous leurs produits et plus encore à l’épicerie participative « le marché de la Capéchade ». \nIci\, vos achats contribuent à soutenir un système alimentaire plus durable et solidaire\, et venir à l’épicerie devient un moment de rencontre et de convivialité.
URL:https://lacapechade.org/agenda/epicerie-participative-21/
LOCATION:Épicerie\, 2bis Boulevard Pauline Bouisson\, Marseillan\, 34340\, France
CATEGORIES:Épicerie
ATTACH;FMTTYPE=image/jpeg:https://lacapechade.org/wp-content/uploads/2024/06/PHOTO-2024-04-11-17-49-53-e1719390642265.jpg
ORGANIZER;CN="La Cap%C3%A9chade":MAILTO:foodlab.marseillan@gmail.com
END:VEVENT
BEGIN:VEVENT
DTSTART;TZID=Europe/Paris:20240719T150000
DTEND;TZID=Europe/Paris:20240719T180000
DTSTAMP:20260422T122944
CREATED:20240626T083213Z
LAST-MODIFIED:20240626T083213Z
UID:2173-1721401200-1721412000@lacapechade.org
SUMMARY:Épicerie Participative
DESCRIPTION:L’épicerie participative de Marseillan\, le Marché de la Capéchade\, est ouvert tout les vendredis de 15h à 18h \nUne épicerie participative est gérée par ses adhérents\, et permet d’accéder à des produits de qualités à un prix juste tout en soutenant les producteurs locaux. Si vous avez eu l’occasion de passer sur l’un des marchés de la Capéchade de l’automne 2023\, vous aurez eu la chance de croiser quelques-uns de ces producteurs et artisans partenaires et gouter leurs excellents produits. Vous retrouverez tous leurs produits et plus encore à l’épicerie participative « le marché de la Capéchade ». \nIci\, vos achats contribuent à soutenir un système alimentaire plus durable et solidaire\, et venir à l’épicerie devient un moment de rencontre et de convivialité.
URL:https://lacapechade.org/agenda/epicerie-participative-22/
LOCATION:Épicerie\, 2bis Boulevard Pauline Bouisson\, Marseillan\, 34340\, France
CATEGORIES:Épicerie
ATTACH;FMTTYPE=image/jpeg:https://lacapechade.org/wp-content/uploads/2024/06/PHOTO-2024-04-11-17-49-53-e1719390642265.jpg
ORGANIZER;CN="La Cap%C3%A9chade":MAILTO:foodlab.marseillan@gmail.com
END:VEVENT
BEGIN:VEVENT
DTSTART;TZID=Europe/Paris:20240726T150000
DTEND;TZID=Europe/Paris:20240726T180000
DTSTAMP:20260422T122944
CREATED:20240626T083231Z
LAST-MODIFIED:20240626T083231Z
UID:2175-1722006000-1722016800@lacapechade.org
SUMMARY:Épicerie Participative
DESCRIPTION:L’épicerie participative de Marseillan\, le Marché de la Capéchade\, est ouvert tout les vendredis de 15h à 18h \nUne épicerie participative est gérée par ses adhérents\, et permet d’accéder à des produits de qualités à un prix juste tout en soutenant les producteurs locaux. Si vous avez eu l’occasion de passer sur l’un des marchés de la Capéchade de l’automne 2023\, vous aurez eu la chance de croiser quelques-uns de ces producteurs et artisans partenaires et gouter leurs excellents produits. Vous retrouverez tous leurs produits et plus encore à l’épicerie participative « le marché de la Capéchade ». \nIci\, vos achats contribuent à soutenir un système alimentaire plus durable et solidaire\, et venir à l’épicerie devient un moment de rencontre et de convivialité.
URL:https://lacapechade.org/agenda/epicerie-participative-23/
LOCATION:Épicerie\, 2bis Boulevard Pauline Bouisson\, Marseillan\, 34340\, France
CATEGORIES:Épicerie
ATTACH;FMTTYPE=image/jpeg:https://lacapechade.org/wp-content/uploads/2024/06/PHOTO-2024-04-11-17-49-53-e1719390642265.jpg
ORGANIZER;CN="La Cap%C3%A9chade":MAILTO:foodlab.marseillan@gmail.com
END:VEVENT
END:VCALENDAR