BEGIN:VCALENDAR
VERSION:2.0
PRODID:-//La Capéchade - ECPv6.15.20//NONSGML v1.0//EN
CALSCALE:GREGORIAN
METHOD:PUBLISH
X-WR-CALNAME:La Capéchade
X-ORIGINAL-URL:https://lacapechade.org
X-WR-CALDESC:Évènements pour La Capéchade
REFRESH-INTERVAL;VALUE=DURATION:PT1H
X-Robots-Tag:noindex
X-PUBLISHED-TTL:PT1H
BEGIN:VTIMEZONE
TZID:Europe/Paris
BEGIN:DAYLIGHT
TZOFFSETFROM:+0100
TZOFFSETTO:+0200
TZNAME:CEST
DTSTART:20230326T010000
END:DAYLIGHT
BEGIN:STANDARD
TZOFFSETFROM:+0200
TZOFFSETTO:+0100
TZNAME:CET
DTSTART:20231029T010000
END:STANDARD
BEGIN:DAYLIGHT
TZOFFSETFROM:+0100
TZOFFSETTO:+0200
TZNAME:CEST
DTSTART:20240331T010000
END:DAYLIGHT
BEGIN:STANDARD
TZOFFSETFROM:+0200
TZOFFSETTO:+0100
TZNAME:CET
DTSTART:20241027T010000
END:STANDARD
BEGIN:DAYLIGHT
TZOFFSETFROM:+0100
TZOFFSETTO:+0200
TZNAME:CEST
DTSTART:20250330T010000
END:DAYLIGHT
BEGIN:STANDARD
TZOFFSETFROM:+0200
TZOFFSETTO:+0100
TZNAME:CET
DTSTART:20251026T010000
END:STANDARD
END:VTIMEZONE
BEGIN:VEVENT
DTSTART;TZID=Europe/Paris:20240607T160000
DTEND;TZID=Europe/Paris:20240607T190000
DTSTAMP:20260422T134714
CREATED:20240506T074240Z
LAST-MODIFIED:20240507T144759Z
UID:2085-1717776000-1717786800@lacapechade.org
SUMMARY:Les Marchés saisonniers
DESCRIPTION:Le 24 mai\,  le 7 et 14 juin\, de 16h à 19h\, la Capéchade organise ses marchés saisonniers ! \nTrois dates pour venir rencontrer les producteurs et artisans partenaires de l’association\, et gouter les produits proposés dans le cadre de l’épicerie participative. \nPour ce printemps\, les rendez vous auront lieux dans le Parc Gaujal de Marseillan (2 bd Pauline Bouisson). Un marché de producteurs et artisans locaux\, un projet collectif consommateurs et producteurs en circuit court pour accéder à des produits de qualité à prix coutants! Les marchés de la Capéchade sont en entrée libre.
URL:https://lacapechade.org/agenda/les-marches-saisonniers-3/
LOCATION:Le parc Gaujal\, 2 Boulevard Pauline Bouisson\, Marseillan\, 34340\, France
CATEGORIES:Épicerie,Événement associatif,Événement festif,Lieux
ATTACH;FMTTYPE=image/png:https://lacapechade.org/wp-content/uploads/2024/05/24-mai-7-14-juin-2024-de-16h-a-19h-e1714981091526.png
ORGANIZER;CN="La Cap%C3%A9chade":MAILTO:foodlab.marseillan@gmail.com
END:VEVENT
BEGIN:VEVENT
DTSTART;TZID=Europe/Paris:20240614T160000
DTEND;TZID=Europe/Paris:20240614T190000
DTSTAMP:20260422T134714
CREATED:20240506T074225Z
LAST-MODIFIED:20240507T144822Z
UID:2084-1718380800-1718391600@lacapechade.org
SUMMARY:Les Marchés saisonniers
DESCRIPTION:Le 24 mai\,  le 7 et 14 juin\, de 16h à 19h\, la Capéchade organise ses marchés saisonniers ! \nTrois dates pour venir rencontrer les producteurs et artisans partenaires de l’association\, et gouter les produits proposés dans le cadre de l’épicerie participative. \nPour ce printemps\, les rendez vous auront lieux dans le Parc Gaujal de Marseillan (2 bd Pauline Bouisson). Un marché de producteurs et artisans locaux\, un projet collectif consommateurs et producteurs en circuit court pour accéder à des produits de qualité à prix coutants! Les marchés de la Capéchade sont en entrée libre.
URL:https://lacapechade.org/agenda/les-marches-saisonniers-2/
LOCATION:Le parc Gaujal\, 2 Boulevard Pauline Bouisson\, Marseillan\, 34340\, France
CATEGORIES:Épicerie,Événement associatif,Événement festif,Lieux
ATTACH;FMTTYPE=image/png:https://lacapechade.org/wp-content/uploads/2024/05/24-mai-7-14-juin-2024-de-16h-a-19h-e1714981091526.png
ORGANIZER;CN="La Cap%C3%A9chade":MAILTO:foodlab.marseillan@gmail.com
END:VEVENT
BEGIN:VEVENT
DTSTART;TZID=Europe/Paris:20240615T140000
DTEND;TZID=Europe/Paris:20240615T163000
DTSTAMP:20260422T134714
CREATED:20240514T082441Z
LAST-MODIFIED:20240612T124802Z
UID:2093-1718460000-1718469000@lacapechade.org
SUMMARY:Atelier cuisine apéritive - Tartinades pour les apéritifs
DESCRIPTION:🍽️ Atelier Cuisine Apéritive : Tartinades pour les apéritifs🌈 \nRejoignez-nous pour un atelier culinaire spécial où nous préparerons un délicieux apéritif coloré et sain ! Apprenez à réaliser des tartinables et savoir comment les stérilisés. \nVenez partager un moment convivial et gourmand\, parfait pour les amateurs de cuisine et de nouvelles saveurs. Tous les ingrédients et le matériel seront fournis et vous repartirez avec 6 pots de tartinades stérilisé . \nN’oubliez pas de réserver votre place dès maintenant au 07 50 68 06 16 ! \nÀ très vite pour une explosion de couleurs et de saveurs ! 🎨🍴 \n#AtelierCuisine #tartinables #conservation #CuisineApéritive
URL:https://lacapechade.org/agenda/atelier-cuisine-aperitive-houmous-tout-en-couleurs-et-poivrons-a-lhuile/
LOCATION:La Capechade\, 1 avenue de la Marine\, Marseillan\, 34340
CATEGORIES:Ateliers cuisine,Cuisine
ATTACH;FMTTYPE=image/jpeg:https://lacapechade.org/wp-content/uploads/2024/05/i127915-houmous-aux-poivrons-e1715674915549.jpeg
ORGANIZER;CN="La Cap%C3%A9chade":MAILTO:foodlab.marseillan@gmail.com
END:VEVENT
BEGIN:VEVENT
DTSTART;TZID=Europe/Paris:20240628T150000
DTEND;TZID=Europe/Paris:20240628T180000
DTSTAMP:20260422T134714
CREATED:20240626T083051Z
LAST-MODIFIED:20240626T083051Z
UID:2162-1719586800-1719597600@lacapechade.org
SUMMARY:Épicerie Participative
DESCRIPTION:L’épicerie participative de Marseillan\, le Marché de la Capéchade\, est ouvert tout les vendredis de 15h à 18h \nUne épicerie participative est gérée par ses adhérents\, et permet d’accéder à des produits de qualités à un prix juste tout en soutenant les producteurs locaux. Si vous avez eu l’occasion de passer sur l’un des marchés de la Capéchade de l’automne 2023\, vous aurez eu la chance de croiser quelques-uns de ces producteurs et artisans partenaires et gouter leurs excellents produits. Vous retrouverez tous leurs produits et plus encore à l’épicerie participative « le marché de la Capéchade ». \nIci\, vos achats contribuent à soutenir un système alimentaire plus durable et solidaire\, et venir à l’épicerie devient un moment de rencontre et de convivialité.
URL:https://lacapechade.org/agenda/epicerie-participative-19/
LOCATION:Épicerie\, 2bis Boulevard Pauline Bouisson\, Marseillan\, 34340\, France
CATEGORIES:Épicerie
ATTACH;FMTTYPE=image/jpeg:https://lacapechade.org/wp-content/uploads/2024/06/PHOTO-2024-04-11-17-49-53-e1719390642265.jpg
ORGANIZER;CN="La Cap%C3%A9chade":MAILTO:foodlab.marseillan@gmail.com
END:VEVENT
END:VCALENDAR