BEGIN:VCALENDAR
VERSION:2.0
PRODID:-//La Capéchade - ECPv6.15.20//NONSGML v1.0//EN
CALSCALE:GREGORIAN
METHOD:PUBLISH
X-ORIGINAL-URL:https://lacapechade.org
X-WR-CALDESC:Évènements pour La Capéchade
REFRESH-INTERVAL;VALUE=DURATION:PT1H
X-Robots-Tag:noindex
X-PUBLISHED-TTL:PT1H
BEGIN:VTIMEZONE
TZID:Europe/Paris
BEGIN:DAYLIGHT
TZOFFSETFROM:+0100
TZOFFSETTO:+0200
TZNAME:CEST
DTSTART:20230326T010000
END:DAYLIGHT
BEGIN:STANDARD
TZOFFSETFROM:+0200
TZOFFSETTO:+0100
TZNAME:CET
DTSTART:20231029T010000
END:STANDARD
BEGIN:DAYLIGHT
TZOFFSETFROM:+0100
TZOFFSETTO:+0200
TZNAME:CEST
DTSTART:20240331T010000
END:DAYLIGHT
BEGIN:STANDARD
TZOFFSETFROM:+0200
TZOFFSETTO:+0100
TZNAME:CET
DTSTART:20241027T010000
END:STANDARD
BEGIN:DAYLIGHT
TZOFFSETFROM:+0100
TZOFFSETTO:+0200
TZNAME:CEST
DTSTART:20250330T010000
END:DAYLIGHT
BEGIN:STANDARD
TZOFFSETFROM:+0200
TZOFFSETTO:+0100
TZNAME:CET
DTSTART:20251026T010000
END:STANDARD
END:VTIMEZONE
BEGIN:VEVENT
DTSTART;TZID=Europe/Paris:20240301T160000
DTEND;TZID=Europe/Paris:20240301T190000
DTSTAMP:20260422T181230
CREATED:20240213T102024Z
LAST-MODIFIED:20240220T155738Z
UID:1961-1709308800-1709319600@lacapechade.org
SUMMARY:Épicerie Participative
DESCRIPTION:L’épicerie participative de Marseillan\, le Marché de la Capéchade\, est ouvert tout les vendredis de 16h à 20h \nUne épicerie participative est gérée par ses adhérents\, et permet d’accéder à des produits de qualités à un prix juste tout en soutenant les producteurs locaux. Si vous avez eu l’occasion de passer sur l’un des marchés de la Capéchade de l’automne 2023\, vous aurez eu la chance de croiser quelques-uns de ces producteurs et artisans partenaires et gouter leurs excellents produits. Vous retrouverez tous leurs produits et plus encore à l’épicerie participative « le marché de la Capéchade ». \nIci\, vos achats contribuent à soutenir un système alimentaire plus durable et solidaire\, et venir à l’épicerie devient un moment de rencontre et de convivialité.
URL:https://lacapechade.org/agenda/epicerie-participative-5/
LOCATION:Épicerie\, 2bis Boulevard Pauline Bouisson\, Marseillan\, 34340\, France
CATEGORIES:Épicerie
ATTACH;FMTTYPE=image/jpeg:https://lacapechade.org/wp-content/uploads/2024/01/IMG_3648-scaled.jpeg
ORGANIZER;CN="La Cap%C3%A9chade":MAILTO:foodlab.marseillan@gmail.com
END:VEVENT
BEGIN:VEVENT
DTSTART;TZID=Europe/Paris:20240308T160000
DTEND;TZID=Europe/Paris:20240308T190000
DTSTAMP:20260422T181230
CREATED:20240213T102040Z
LAST-MODIFIED:20240220T155727Z
UID:1963-1709913600-1709924400@lacapechade.org
SUMMARY:Épicerie Participative
DESCRIPTION:L’épicerie participative de Marseillan\, le Marché de la Capéchade\, est ouvert tout les vendredis de 16h à 20h \nUne épicerie participative est gérée par ses adhérents\, et permet d’accéder à des produits de qualités à un prix juste tout en soutenant les producteurs locaux. Si vous avez eu l’occasion de passer sur l’un des marchés de la Capéchade de l’automne 2023\, vous aurez eu la chance de croiser quelques-uns de ces producteurs et artisans partenaires et gouter leurs excellents produits. Vous retrouverez tous leurs produits et plus encore à l’épicerie participative « le marché de la Capéchade ». \nIci\, vos achats contribuent à soutenir un système alimentaire plus durable et solidaire\, et venir à l’épicerie devient un moment de rencontre et de convivialité.
URL:https://lacapechade.org/agenda/epicerie-participative-6/
LOCATION:Épicerie\, 2bis Boulevard Pauline Bouisson\, Marseillan\, 34340\, France
CATEGORIES:Épicerie
ATTACH;FMTTYPE=image/jpeg:https://lacapechade.org/wp-content/uploads/2024/01/IMG_3648-scaled.jpeg
ORGANIZER;CN="La Cap%C3%A9chade":MAILTO:foodlab.marseillan@gmail.com
END:VEVENT
BEGIN:VEVENT
DTSTART;TZID=Europe/Paris:20240309T100000
DTEND;TZID=Europe/Paris:20240309T160000
DTSTAMP:20260422T181230
CREATED:20240209T080320Z
LAST-MODIFIED:20240209T080320Z
UID:1924-1709978400-1710000000@lacapechade.org
SUMMARY:Chantier collectif et repas partagé
DESCRIPTION:9 Mars\, de 10h à 16h\,  \nNous vous donnons rendez vous le 9 mars\, pour une journée de chantier collectif au Foodlab.  \nLe printemps arrive et il y a de quoi faire au jardin ! Préparer les bac potager\, ratisser le jardin\, ramasser les pignes de pin et pour ceux qui veulent préparer les pignons\, nettoyer les haies\, ramasser les feuilles mortes\, réaménager notre coin apéro pour les beaux jours\, etc.  \nPour le déjeuner\, chacun ramène quelque chose à partager et la Capéchade vous prépare une terrine surprise… \nMatériel bienvenu : râteaux\, brouette\, pelles\, scies\, marteau\, visseuses\, karcher\, sécateurs\, escabeaux. \nMatériaux de récup bienvenus : bâches\, planches\, etc.
URL:https://lacapechade.org/agenda/chantier-collectif-et-repas-partage/
LOCATION:La Capechade\, 1 avenue de la Marine\, Marseillan\, 34340
CATEGORIES:Événement associatif,Jardin
ATTACH;FMTTYPE=image/jpeg:https://lacapechade.org/wp-content/uploads/2024/02/Instagram-Ramene-ta-fraise-720x438-1.jpg
ORGANIZER;CN="La Cap%C3%A9chade":MAILTO:foodlab.marseillan@gmail.com
END:VEVENT
BEGIN:VEVENT
DTSTART;TZID=Europe/Paris:20240315T160000
DTEND;TZID=Europe/Paris:20240315T190000
DTSTAMP:20260422T181230
CREATED:20240213T102055Z
LAST-MODIFIED:20240220T155716Z
UID:1965-1710518400-1710529200@lacapechade.org
SUMMARY:Épicerie Participative
DESCRIPTION:L’épicerie participative de Marseillan\, le Marché de la Capéchade\, est ouvert tout les vendredis de 16h à 20h \nUne épicerie participative est gérée par ses adhérents\, et permet d’accéder à des produits de qualités à un prix juste tout en soutenant les producteurs locaux. Si vous avez eu l’occasion de passer sur l’un des marchés de la Capéchade de l’automne 2023\, vous aurez eu la chance de croiser quelques-uns de ces producteurs et artisans partenaires et gouter leurs excellents produits. Vous retrouverez tous leurs produits et plus encore à l’épicerie participative « le marché de la Capéchade ». \nIci\, vos achats contribuent à soutenir un système alimentaire plus durable et solidaire\, et venir à l’épicerie devient un moment de rencontre et de convivialité.
URL:https://lacapechade.org/agenda/epicerie-participative-7/
LOCATION:Épicerie\, 2bis Boulevard Pauline Bouisson\, Marseillan\, 34340\, France
CATEGORIES:Épicerie
ATTACH;FMTTYPE=image/jpeg:https://lacapechade.org/wp-content/uploads/2024/01/IMG_3648-scaled.jpeg
ORGANIZER;CN="La Cap%C3%A9chade":MAILTO:foodlab.marseillan@gmail.com
END:VEVENT
BEGIN:VEVENT
DTSTART;TZID=Europe/Paris:20240315T160000
DTEND;TZID=Europe/Paris:20240315T190000
DTSTAMP:20260422T181230
CREATED:20240314T095305Z
LAST-MODIFIED:20240314T095345Z
UID:1999-1710518400-1710529200@lacapechade.org
SUMMARY:Rencontre avec les producteurs
DESCRIPTION:Dans le cadre du marché de la Capéchade\, l’épicerie participative de Marseillan\, nous organisons de rencontres avec les producteurs partenaires pour continuer à créer du lien. Ce sont des moments d’échnages et de rencontre\, mais aussi l’occasion de découvrir les produits distribués à l’épicerie!\n\n\n\nLes deux prochains rencontres : Vendredi 15 mars\, Cécile de la ferme de l’Esquirol viendra présenter ses huiles d’olives et ses olives à manger \, et autres surprises. Vendredi 12 avril\, c’est Olivia du GAEC du Grézal qui vous proposera ses produits!\n\n\nL’épicerie est ouverte le vendredi de 16h à 19h.\nhttps://lacapechade.org/agenda/
URL:https://lacapechade.org/agenda/rencontre-avec-les-producteurs/
LOCATION:Épicerie\, 2bis Boulevard Pauline Bouisson\, Marseillan\, 34340\, France
CATEGORIES:Ateliers dégustation,Épicerie
ATTACH;FMTTYPE=image/png:https://lacapechade.org/wp-content/uploads/2024/03/Rencontre-avec-les-producteurs.png
ORGANIZER;CN="La Cap%C3%A9chade":MAILTO:foodlab.marseillan@gmail.com
END:VEVENT
BEGIN:VEVENT
DTSTART;TZID=Europe/Paris:20240322T160000
DTEND;TZID=Europe/Paris:20240322T190000
DTSTAMP:20260422T181230
CREATED:20240213T102108Z
LAST-MODIFIED:20240220T155707Z
UID:1967-1711123200-1711134000@lacapechade.org
SUMMARY:Épicerie Participative
DESCRIPTION:L’épicerie participative de Marseillan\, le Marché de la Capéchade\, est ouvert tout les vendredis de 16h à 20h \nUne épicerie participative est gérée par ses adhérents\, et permet d’accéder à des produits de qualités à un prix juste tout en soutenant les producteurs locaux. Si vous avez eu l’occasion de passer sur l’un des marchés de la Capéchade de l’automne 2023\, vous aurez eu la chance de croiser quelques-uns de ces producteurs et artisans partenaires et gouter leurs excellents produits. Vous retrouverez tous leurs produits et plus encore à l’épicerie participative « le marché de la Capéchade ». \nIci\, vos achats contribuent à soutenir un système alimentaire plus durable et solidaire\, et venir à l’épicerie devient un moment de rencontre et de convivialité.
URL:https://lacapechade.org/agenda/epicerie-participative-8/
LOCATION:Épicerie\, 2bis Boulevard Pauline Bouisson\, Marseillan\, 34340\, France
CATEGORIES:Épicerie
ATTACH;FMTTYPE=image/jpeg:https://lacapechade.org/wp-content/uploads/2024/01/IMG_3648-scaled.jpeg
ORGANIZER;CN="La Cap%C3%A9chade":MAILTO:foodlab.marseillan@gmail.com
END:VEVENT
BEGIN:VEVENT
DTSTART;TZID=Europe/Paris:20240329T160000
DTEND;TZID=Europe/Paris:20240329T190000
DTSTAMP:20260422T181230
CREATED:20240213T102123Z
LAST-MODIFIED:20240220T155623Z
UID:1969-1711728000-1711738800@lacapechade.org
SUMMARY:Épicerie Participative
DESCRIPTION:L’épicerie participative de Marseillan\, le Marché de la Capéchade\, est ouvert tout les vendredis de 16h à 20h \nUne épicerie participative est gérée par ses adhérents\, et permet d’accéder à des produits de qualités à un prix juste tout en soutenant les producteurs locaux. Si vous avez eu l’occasion de passer sur l’un des marchés de la Capéchade de l’automne 2023\, vous aurez eu la chance de croiser quelques-uns de ces producteurs et artisans partenaires et gouter leurs excellents produits. Vous retrouverez tous leurs produits et plus encore à l’épicerie participative « le marché de la Capéchade ». \nIci\, vos achats contribuent à soutenir un système alimentaire plus durable et solidaire\, et venir à l’épicerie devient un moment de rencontre et de convivialité.
URL:https://lacapechade.org/agenda/epicerie-participative-9/
LOCATION:Épicerie\, 2bis Boulevard Pauline Bouisson\, Marseillan\, 34340\, France
CATEGORIES:Épicerie
ATTACH;FMTTYPE=image/jpeg:https://lacapechade.org/wp-content/uploads/2024/01/IMG_3648-scaled.jpeg
ORGANIZER;CN="La Cap%C3%A9chade":MAILTO:foodlab.marseillan@gmail.com
END:VEVENT
END:VCALENDAR