BEGIN:VCALENDAR
VERSION:2.0
PRODID:-//La Capéchade - ECPv6.15.20//NONSGML v1.0//EN
CALSCALE:GREGORIAN
METHOD:PUBLISH
X-ORIGINAL-URL:https://lacapechade.org
X-WR-CALDESC:Évènements pour La Capéchade
REFRESH-INTERVAL;VALUE=DURATION:PT1H
X-Robots-Tag:noindex
X-PUBLISHED-TTL:PT1H
BEGIN:VTIMEZONE
TZID:Europe/Paris
BEGIN:DAYLIGHT
TZOFFSETFROM:+0100
TZOFFSETTO:+0200
TZNAME:CEST
DTSTART:20230326T010000
END:DAYLIGHT
BEGIN:STANDARD
TZOFFSETFROM:+0200
TZOFFSETTO:+0100
TZNAME:CET
DTSTART:20231029T010000
END:STANDARD
BEGIN:DAYLIGHT
TZOFFSETFROM:+0100
TZOFFSETTO:+0200
TZNAME:CEST
DTSTART:20240331T010000
END:DAYLIGHT
BEGIN:STANDARD
TZOFFSETFROM:+0200
TZOFFSETTO:+0100
TZNAME:CET
DTSTART:20241027T010000
END:STANDARD
BEGIN:DAYLIGHT
TZOFFSETFROM:+0100
TZOFFSETTO:+0200
TZNAME:CEST
DTSTART:20250330T010000
END:DAYLIGHT
BEGIN:STANDARD
TZOFFSETFROM:+0200
TZOFFSETTO:+0100
TZNAME:CET
DTSTART:20251026T010000
END:STANDARD
END:VTIMEZONE
BEGIN:VEVENT
DTSTART;TZID=Europe/Paris:20240113T100000
DTEND;TZID=Europe/Paris:20240113T130000
DTSTAMP:20260422T210040
CREATED:20231219T090621Z
LAST-MODIFIED:20231220T223236Z
UID:868-1705140000-1705150800@lacapechade.org
SUMMARY:Atelier cuisine : Joyeuses légumineuses
DESCRIPTION:Ce Samedi 13 janvier de 10h à 13h\, venez à l’atelier “Joyeuses légumineuses”\,par Auriane Aprile  \nAprès cet atelier\, vous serez en mesure de préparer des repas complets à base de légumineuse\,100% végétal et sans gluten. \nPour toute info tarifs et inscription appelez le 07 50 68 06 16 ou par mail à : accueil@foodlab.org \nTarifs variables selon si vous êtes adhérent ou pas à l’association.
URL:https://lacapechade.org/agenda/atelier-cuisine-joyeuses-legumineuses/
LOCATION:La Capechade\, 1 avenue de la Marine\, Marseillan\, 34340
CATEGORIES:Ateliers cuisine,Ateliers cuisine santé et locale,Cuisine
ATTACH;FMTTYPE=image/png:https://lacapechade.org/wp-content/uploads/2023/12/Joyeuses-legumineuses.png
ORGANIZER;CN="La Cap%C3%A9chade":MAILTO:foodlab.marseillan@gmail.com
END:VEVENT
BEGIN:VEVENT
DTSTART;TZID=Europe/Paris:20240120T100000
DTEND;TZID=Europe/Paris:20240120T130000
DTSTAMP:20260422T210040
CREATED:20231219T103529Z
LAST-MODIFIED:20231220T223230Z
UID:875-1705744800-1705755600@lacapechade.org
SUMMARY:Atelier Jardin "Plantes Vivaces"
DESCRIPTION:Nous vous proposons l’atelier “Plantes vivaces”\, par Sarah Said \nL’ atelier se déroulera dans le jardin de La Capechade ! \nTarifs variables selon si vous êtes adhérent ou pas à l’association.  \nGratuit pour les adhérents qui participent à hauteur de deux heures par mois. \nPour toute info et inscription appelez le 07 50 68 06 16 \nou par mail à : accueil@foodlab.org
URL:https://lacapechade.org/agenda/atelier-jardin-plantes-vivaces/
LOCATION:La Capechade\, 1 avenue de la Marine\, Marseillan\, 34340
CATEGORIES:Ateliers jardin,Ateliers permaculture,Jardin
ATTACH;FMTTYPE=image/png:https://lacapechade.org/wp-content/uploads/2023/12/Atelier-jardin-20-janvier-2.png
ORGANIZER;CN="La Cap%C3%A9chade":MAILTO:foodlab.marseillan@gmail.com
END:VEVENT
BEGIN:VEVENT
DTSTART;TZID=Europe/Paris:20240120T150000
DTEND;TZID=Europe/Paris:20240120T170000
DTSTAMP:20260422T210040
CREATED:20231219T103753Z
LAST-MODIFIED:20231220T223222Z
UID:878-1705762800-1705770000@lacapechade.org
SUMMARY:Atelier cuisine : Lactofermentation
DESCRIPTION:Les légumes fermentés existent depuis la nuit des temps et sont d’excellents alliés de notre santé\, en plus de bien conserver les aliments et de créer des saveurs addictives. Toujours sur ces techniques culinaires excellentes pour nos organismes nous explorerons les bouillons et la cuisson vapeur au cours de cet atelier. Plus faciles à digérer\, riches en nutriments\, bons pour le microbiote et aux délicieuses saveurs\, ces techniques viendront enrichir votre cuisine santé au quotidien.
URL:https://lacapechade.org/agenda/atelier-cuisine-lactofermentation/
LOCATION:La Capechade\, 1 avenue de la Marine\, Marseillan\, 34340
CATEGORIES:Ateliers cuisine,Ateliers cuisine santé et locale,Cuisine
ATTACH;FMTTYPE=image/png:https://lacapechade.org/wp-content/uploads/2023/12/Samedi-20-janvier.png
ORGANIZER;CN="La Cap%C3%A9chade":MAILTO:foodlab.marseillan@gmail.com
END:VEVENT
BEGIN:VEVENT
DTSTART;TZID=Europe/Paris:20240125T183000
DTEND;TZID=Europe/Paris:20240125T200000
DTSTAMP:20260422T210040
CREATED:20231219T103938Z
LAST-MODIFIED:20231220T223212Z
UID:881-1706207400-1706212800@lacapechade.org
SUMMARY:Atelier dégustation : Vins
DESCRIPTION:Plongez dans l’univers du vin avec nos ateliers de dégustation !  \nCes moments conviviaux vous permettront de découvrir\, et de déguster les vins. \nPour toute info et inscription appelez le 07 50 68 06 16 ou par mail à : accueil@lacapechade.org \n  \nréservé aux plus de 18 ans \nl’abus d’alcool est dangereux pour la santé\, à consommer avec modération
URL:https://lacapechade.org/agenda/atelier-degustation-vins/
LOCATION:La Capechade\, 1 avenue de la Marine\, Marseillan\, 34340
CATEGORIES:Ateliers dégustation,Ateliers vins,Café-cantine
ATTACH;FMTTYPE=image/png:https://lacapechade.org/wp-content/uploads/2023/12/Atelier-Vin-25-janvier.png
ORGANIZER;CN="La Cap%C3%A9chade":MAILTO:foodlab.marseillan@gmail.com
END:VEVENT
BEGIN:VEVENT
DTSTART;TZID=Europe/Paris:20240126T160000
DTEND;TZID=Europe/Paris:20240126T200000
DTSTAMP:20260422T210040
CREATED:20240104T084115Z
LAST-MODIFIED:20240115T141552Z
UID:1718-1706284800-1706299200@lacapechade.org
SUMMARY:Ouverture Épicerie participative\, 26 Janvier
DESCRIPTION:OUVERTURE EPICERIE\, LE 26 JANVIER 2024 \nL’épicerie participative de Marseillan\, le Marché de la Capéchade\, ouvre ses portes ce 26 janvier de 16h à 20h ! \nUne épicerie participative est gérée par ses adhérents\, et permet d’accéder à des produits de qualités à un prix juste tout en soutenant les producteurs locaux. Si vous avez eu l’occasion de passer sur l’un des marchés de la Capéchade de l’automne 2023\, vous aurez eu la chance de croiser quelques-uns de ces producteurs et artisans partenaires et gouter leurs excellents produits. Vous retrouverez tous leurs produits et plus encore à l’épicerie participative « le marché de la Capéchade ». \nIci\, vos achats contribuent à soutenir un système alimentaire plus durable et solidaire\, et venir à l’épicerie devient un moment de rencontre et de convivialité. \nPour en savoir plus sur le projet : https://lacapechade.org/activites/epicerie/ \nLe 26 janvier\, de 16h à 20h\, le collectif vous invite à passer à l’épicerie pour découvrir concrètement le projet. Nous vous attendons nombreux ! \nAdresse : L’épicerie participative s’installe dans le local provisoire au 2bis Boulevard Pauline Bouisson (ancienne crèche Copain Calin). L’accès se fait par le portail du Parc Gaujal.
URL:https://lacapechade.org/agenda/ouverture-epicerie-participative/
LOCATION:Épicerie\, 2bis Boulevard Pauline Bouisson\, Marseillan\, 34340\, France
CATEGORIES:Épicerie
ATTACH;FMTTYPE=image/png:https://lacapechade.org/wp-content/uploads/2024/01/epicerie.png
ORGANIZER;CN="La Cap%C3%A9chade":MAILTO:foodlab.marseillan@gmail.com
END:VEVENT
END:VCALENDAR