BEGIN:VCALENDAR
VERSION:2.0
PRODID:-//La Capéchade - ECPv6.15.20//NONSGML v1.0//EN
CALSCALE:GREGORIAN
METHOD:PUBLISH
X-ORIGINAL-URL:https://lacapechade.org
X-WR-CALDESC:Évènements pour La Capéchade
REFRESH-INTERVAL;VALUE=DURATION:PT1H
X-Robots-Tag:noindex
X-PUBLISHED-TTL:PT1H
BEGIN:VTIMEZONE
TZID:Europe/Paris
BEGIN:DAYLIGHT
TZOFFSETFROM:+0100
TZOFFSETTO:+0200
TZNAME:CEST
DTSTART:20220327T010000
END:DAYLIGHT
BEGIN:STANDARD
TZOFFSETFROM:+0200
TZOFFSETTO:+0100
TZNAME:CET
DTSTART:20221030T010000
END:STANDARD
BEGIN:DAYLIGHT
TZOFFSETFROM:+0100
TZOFFSETTO:+0200
TZNAME:CEST
DTSTART:20230326T010000
END:DAYLIGHT
BEGIN:STANDARD
TZOFFSETFROM:+0200
TZOFFSETTO:+0100
TZNAME:CET
DTSTART:20231029T010000
END:STANDARD
BEGIN:DAYLIGHT
TZOFFSETFROM:+0100
TZOFFSETTO:+0200
TZNAME:CEST
DTSTART:20240331T010000
END:DAYLIGHT
BEGIN:STANDARD
TZOFFSETFROM:+0200
TZOFFSETTO:+0100
TZNAME:CET
DTSTART:20241027T010000
END:STANDARD
END:VTIMEZONE
BEGIN:VEVENT
DTSTART;TZID=Europe/Paris:20231206T100000
DTEND;TZID=Europe/Paris:20231206T130000
DTSTAMP:20260422T222739
CREATED:20231130T093837Z
LAST-MODIFIED:20231220T223301Z
UID:705-1701856800-1701867600@lacapechade.org
SUMMARY:Atelier formation cuisine pâtisserie végétal santé
DESCRIPTION:Venez découvrir les classiques de la pâtisserie adaptés aux différents régimes\, sans gluten\, sans sucre raffiné\, bio ! \nAuriane Aprile https://www.facebook.com/auriane.aprile vous propose un atelier cuisine pâtisserie pas comme les autres\, où l’on découvrira les alternatives végétales et comment rester gourmand quel que soit son régime alimentaire. Préparation collective\, PDF des recettes\, préparations emportées\, conseils alimentaires. \nNotez également\, les prochains ateliers :  \n\nun Atelier menu végan pour les fêtes\, le 13 décembre de 15h à 17h\nun Atelier joyeuses légumineuses\, le 13 janvier de 10h à 13h.\n\nInscrivez-vous vite!! \nPrix préférentiel pour les adhérents à l’association ! \nInfos et inscriptions : accueil@lacapechade.org / 07 50 68 06 16
URL:https://lacapechade.org/agenda/atelier-formation-cuisine-patisserie-vegetal-sante/
LOCATION:La Capechade\, 1 avenue de la Marine\, Marseillan\, 34340
CATEGORIES:Ateliers cuisine,Cuisine,Événement associatif
ATTACH;FMTTYPE=image/png:https://lacapechade.org/wp-content/uploads/2023/11/Atelier-patisseries-sante-2.png
ORGANIZER;CN="La Cap%C3%A9chade":MAILTO:foodlab.marseillan@gmail.com
END:VEVENT
BEGIN:VEVENT
DTSTART;TZID=Europe/Paris:20231209T100000
DTEND;TZID=Europe/Paris:20231209T130000
DTSTAMP:20260422T222739
CREATED:20231204T084433Z
LAST-MODIFIED:20231220T223252Z
UID:722-1702116000-1702126800@lacapechade.org
SUMMARY:Atelier “constructions pour le jardin”\, par Sarah Said
DESCRIPTION:À un rythme régulier\, déterminé ensemble\, Sarah vous invite à participer à des ateliers dans le jardin. Pendant ces moments\, elle est présente pour vous accompagner dans la conception\, la mise en place et le suivi du projet de jardin. \nLes ateliers s’articulent de manière pédagogique et pratique autour de thèmes tels que l’environnement\, la biodiversité\, la production potagère\, le cycle de vie des plantes\, les principes de permaculture\, les auxiliaires utiles au jardinier\, etc…
URL:https://lacapechade.org/agenda/atelier-constructions-pour-le-jardin-par-sarah-said/
LOCATION:La Capechade\, 1 avenue de la Marine\, Marseillan\, 34340
CATEGORIES:Ateliers jardin,Ateliers jardin et bricolage,Événement associatif,Jardin
ATTACH;FMTTYPE=image/png:https://lacapechade.org/wp-content/uploads/2023/12/Atelier-jardin-9-decembre-2.png
ORGANIZER;CN="La Cap%C3%A9chade":MAILTO:foodlab.marseillan@gmail.com
END:VEVENT
END:VCALENDAR