BEGIN:VCALENDAR
VERSION:2.0
PRODID:-//La Capéchade - ECPv6.15.20//NONSGML v1.0//EN
CALSCALE:GREGORIAN
METHOD:PUBLISH
X-WR-CALNAME:La Capéchade
X-ORIGINAL-URL:https://lacapechade.org
X-WR-CALDESC:Évènements pour La Capéchade
REFRESH-INTERVAL;VALUE=DURATION:PT1H
X-Robots-Tag:noindex
X-PUBLISHED-TTL:PT1H
BEGIN:VTIMEZONE
TZID:Europe/Paris
BEGIN:DAYLIGHT
TZOFFSETFROM:+0100
TZOFFSETTO:+0200
TZNAME:CEST
DTSTART:20230326T010000
END:DAYLIGHT
BEGIN:STANDARD
TZOFFSETFROM:+0200
TZOFFSETTO:+0100
TZNAME:CET
DTSTART:20231029T010000
END:STANDARD
BEGIN:DAYLIGHT
TZOFFSETFROM:+0100
TZOFFSETTO:+0200
TZNAME:CEST
DTSTART:20240331T010000
END:DAYLIGHT
BEGIN:STANDARD
TZOFFSETFROM:+0200
TZOFFSETTO:+0100
TZNAME:CET
DTSTART:20241027T010000
END:STANDARD
BEGIN:DAYLIGHT
TZOFFSETFROM:+0100
TZOFFSETTO:+0200
TZNAME:CEST
DTSTART:20250330T010000
END:DAYLIGHT
BEGIN:STANDARD
TZOFFSETFROM:+0200
TZOFFSETTO:+0100
TZNAME:CET
DTSTART:20251026T010000
END:STANDARD
END:VTIMEZONE
BEGIN:VEVENT
DTSTART;TZID=Europe/Paris:20240531T183000
DTEND;TZID=Europe/Paris:20240531T210000
DTSTAMP:20260424T171716
CREATED:20240514T081501Z
LAST-MODIFIED:20240514T081501Z
UID:2090-1717180200-1717189200@lacapechade.org
SUMMARY:Fête des Voisins et repas partagé
DESCRIPTION:🎉 Fête des Voisins et Repas Partagé 🎉 \n  \nVenez célébrer la fête des voisins avec un repas partagé le vendredi 31 mai à 18h30  dans le jardin de La Capéchade au 1 avenue de la Marine à Marseillan. \n  \nC’est l’occasion idéale pour partager un bon moment ensemble. Apportez un plat salé ou sucré de votre choix à partager\, ainsi que votre bonne humeur ! \n  \nNous vous attendons nombreux pour cette soirée conviviale et festive ! \nInscrivez-vous dès maintenant au 07 50 68 06 16
URL:https://lacapechade.org/agenda/fete-des-voisins-et-repas-partage/
LOCATION:La Capechade\, 1 avenue de la Marine\, Marseillan\, 34340
CATEGORIES:Événement associatif,Événement festif
ATTACH;FMTTYPE=image/png:https://lacapechade.org/wp-content/uploads/2024/05/Fete-des-voisins-e1715674456784.png
ORGANIZER;CN="La Cap%C3%A9chade":MAILTO:foodlab.marseillan@gmail.com
END:VEVENT
END:VCALENDAR