BEGIN:VCALENDAR
VERSION:2.0
PRODID:-//La Capéchade - ECPv6.15.20//NONSGML v1.0//EN
CALSCALE:GREGORIAN
METHOD:PUBLISH
X-WR-CALNAME:La Capéchade
X-ORIGINAL-URL:https://lacapechade.org
X-WR-CALDESC:Évènements pour La Capéchade
REFRESH-INTERVAL;VALUE=DURATION:PT1H
X-Robots-Tag:noindex
X-PUBLISHED-TTL:PT1H
BEGIN:VTIMEZONE
TZID:Europe/Paris
BEGIN:DAYLIGHT
TZOFFSETFROM:+0100
TZOFFSETTO:+0200
TZNAME:CEST
DTSTART:20230326T010000
END:DAYLIGHT
BEGIN:STANDARD
TZOFFSETFROM:+0200
TZOFFSETTO:+0100
TZNAME:CET
DTSTART:20231029T010000
END:STANDARD
BEGIN:DAYLIGHT
TZOFFSETFROM:+0100
TZOFFSETTO:+0200
TZNAME:CEST
DTSTART:20240331T010000
END:DAYLIGHT
BEGIN:STANDARD
TZOFFSETFROM:+0200
TZOFFSETTO:+0100
TZNAME:CET
DTSTART:20241027T010000
END:STANDARD
BEGIN:DAYLIGHT
TZOFFSETFROM:+0100
TZOFFSETTO:+0200
TZNAME:CEST
DTSTART:20250330T010000
END:DAYLIGHT
BEGIN:STANDARD
TZOFFSETFROM:+0200
TZOFFSETTO:+0100
TZNAME:CET
DTSTART:20251026T010000
END:STANDARD
END:VTIMEZONE
BEGIN:VEVENT
DTSTART;TZID=Europe/Paris:20240514T183000
DTEND;TZID=Europe/Paris:20240514T203000
DTSTAMP:20260424T184453
CREATED:20240409T130225Z
LAST-MODIFIED:20240409T130225Z
UID:2041-1715711400-1715718600@lacapechade.org
SUMMARY:Assemblée Générale 2024
DESCRIPTION:L’assemblée générale annuelle est un moment fort de la vie associative. Lors de laquelle tous les membres à jour de leurs cotisations sont invités à valider le rapport de l’activité de l’année passée\, les comptes de l’association\, mais aussi prendre connaissance des perspectives à court et moyen terme du projet associatif. \nPour plus d’infos sur la vie associative de l’association rendez-vous sur notre site Internet.
URL:https://lacapechade.org/agenda/assemblee-generale-2024/
LOCATION:Salle Paul Arnaud\, 23 Avenue Victor Hugo\, Marseillan\, 34340\, France
CATEGORIES:Événement associatif,Événement festif
ATTACH;FMTTYPE=image/png:https://lacapechade.org/wp-content/uploads/2024/04/Assemblee-Generale-e1712584161715.png
ORGANIZER;CN="La Cap%C3%A9chade":MAILTO:foodlab.marseillan@gmail.com
END:VEVENT
END:VCALENDAR