BEGIN:VCALENDAR
VERSION:2.0
PRODID:-//La Capéchade - ECPv6.15.20//NONSGML v1.0//EN
CALSCALE:GREGORIAN
METHOD:PUBLISH
X-WR-CALNAME:La Capéchade
X-ORIGINAL-URL:https://lacapechade.org
X-WR-CALDESC:Évènements pour La Capéchade
REFRESH-INTERVAL;VALUE=DURATION:PT1H
X-Robots-Tag:noindex
X-PUBLISHED-TTL:PT1H
BEGIN:VTIMEZONE
TZID:Europe/Paris
BEGIN:DAYLIGHT
TZOFFSETFROM:+0100
TZOFFSETTO:+0200
TZNAME:CEST
DTSTART:20230326T010000
END:DAYLIGHT
BEGIN:STANDARD
TZOFFSETFROM:+0200
TZOFFSETTO:+0100
TZNAME:CET
DTSTART:20231029T010000
END:STANDARD
BEGIN:DAYLIGHT
TZOFFSETFROM:+0100
TZOFFSETTO:+0200
TZNAME:CEST
DTSTART:20240331T010000
END:DAYLIGHT
BEGIN:STANDARD
TZOFFSETFROM:+0200
TZOFFSETTO:+0100
TZNAME:CET
DTSTART:20241027T010000
END:STANDARD
BEGIN:DAYLIGHT
TZOFFSETFROM:+0100
TZOFFSETTO:+0200
TZNAME:CEST
DTSTART:20250330T010000
END:DAYLIGHT
BEGIN:STANDARD
TZOFFSETFROM:+0200
TZOFFSETTO:+0100
TZNAME:CET
DTSTART:20251026T010000
END:STANDARD
END:VTIMEZONE
BEGIN:VEVENT
DTSTART;TZID=Europe/Paris:20240907T090000
DTEND;TZID=Europe/Paris:20240907T123000
DTSTAMP:20260424T114220
CREATED:20240820T130708Z
LAST-MODIFIED:20240820T130708Z
UID:2370-1725699600-1725712200@lacapechade.org
SUMMARY:Retrouvez la Capéchade au forum des associations de Marseillan
DESCRIPTION:Si vous souhaitez tout connaitre de nos projets\, nos activités\, nos événements\, si vous avez l’envie de participer à la dynamique citoyenne qui oeuvre au sein du projet associatif\, si vous souhaitez contribuer au développement d’une alimentation durable et solidaire\, alors venez nous rencontrer à l’occasion du forum des associations. Nous serons présents de 9h à 12h30 sur le stand de la Capéchade\, sur le parking du théatre de Marseillan ville.\nDes visites du tiers lieu et son jardin seront organisées tout au long de la matinée pour présenter les espaces de coworking\, l’espace activité et le jardin.
URL:https://lacapechade.org/agenda/retrouvez-la-capechade-au-forum-des-associations-de-marseillan/
CATEGORIES:Événement associatif
ATTACH;FMTTYPE=image/jpeg:https://lacapechade.org/wp-content/uploads/2024/08/IMG_5287-scaled.jpg
END:VEVENT
BEGIN:VEVENT
DTSTART;TZID=Europe/Paris:20240912T183000
DTEND;TZID=Europe/Paris:20240912T210000
DTSTAMP:20260424T114220
CREATED:20240402T093655Z
LAST-MODIFIED:20240820T140211Z
UID:2029-1726165800-1726174800@lacapechade.org
SUMMARY:Apéro participatif de la rentrée
DESCRIPTION:Nous vous invitons à venir partager un apéro au jardin\, le jeudi 12 septembre à partir de 18h30.\n \nLe principe est simple : nous installons de grande tables sur la terrasse du Foodlab\, et tout le monde ramène un petit quelques chose à manger ou à boire pour partager.\n \nCes apéro participatifs\, sont l’occasion de se rencontrer bien sur\, mais aussi échanger sur les projets actuels et à venir.  \nAu plaisir de vous retrouver à cette occasion !
URL:https://lacapechade.org/agenda/apero-participatif/
LOCATION:La Capechade\, 1 avenue de la Marine\, Marseillan\, 34340
CATEGORIES:Événement associatif,Événement festif
ATTACH;FMTTYPE=image/jpeg:https://lacapechade.org/wp-content/uploads/2024/04/AperiJuin.jpg
ORGANIZER;CN="La Cap%C3%A9chade":MAILTO:foodlab.marseillan@gmail.com
END:VEVENT
END:VCALENDAR