BEGIN:VCALENDAR
VERSION:2.0
PRODID:-//La Capéchade - ECPv6.15.20//NONSGML v1.0//EN
CALSCALE:GREGORIAN
METHOD:PUBLISH
X-ORIGINAL-URL:https://lacapechade.org
X-WR-CALDESC:Évènements pour La Capéchade
REFRESH-INTERVAL;VALUE=DURATION:PT1H
X-Robots-Tag:noindex
X-PUBLISHED-TTL:PT1H
BEGIN:VTIMEZONE
TZID:Europe/Paris
BEGIN:DAYLIGHT
TZOFFSETFROM:+0100
TZOFFSETTO:+0200
TZNAME:CEST
DTSTART:20230326T010000
END:DAYLIGHT
BEGIN:STANDARD
TZOFFSETFROM:+0200
TZOFFSETTO:+0100
TZNAME:CET
DTSTART:20231029T010000
END:STANDARD
BEGIN:DAYLIGHT
TZOFFSETFROM:+0100
TZOFFSETTO:+0200
TZNAME:CEST
DTSTART:20240331T010000
END:DAYLIGHT
BEGIN:STANDARD
TZOFFSETFROM:+0200
TZOFFSETTO:+0100
TZNAME:CET
DTSTART:20241027T010000
END:STANDARD
BEGIN:DAYLIGHT
TZOFFSETFROM:+0100
TZOFFSETTO:+0200
TZNAME:CEST
DTSTART:20250330T010000
END:DAYLIGHT
BEGIN:STANDARD
TZOFFSETFROM:+0200
TZOFFSETTO:+0100
TZNAME:CET
DTSTART:20251026T010000
END:STANDARD
END:VTIMEZONE
BEGIN:VEVENT
DTSTART;TZID=Europe/Paris:20240406T100000
DTEND;TZID=Europe/Paris:20240406T140000
DTSTAMP:20260424T184331
CREATED:20240318T082656Z
LAST-MODIFIED:20240327T134447Z
UID:2002-1712397600-1712412000@lacapechade.org
SUMMARY:Collecte de vêtements et de livres
DESCRIPTION:🌟 Appel à la générosité ! 🌟 \n  \nNous recherchons des vêtements et des livres de cuisine et de jardinage en bon état\, lavés et prêts à trouver une nouvelle maison. Pas de maroquinerie\, pas de chaussures\, pas d’accessoires ni de sous-vêtements\, juste des vêtements et des livres qui ont encore beaucoup d’amour à donner ! \nAvec vos dons\, vous soutiendrez ‘Le grenier de La Capechade’\, une bourse destinée aux livres et aux vêtements qui aura lieu en mai. \nPour participer\, il vous suffit de déposer vos dons à La Capéchade 1 avenue de la Marine Marseillan le samedi 6 avril de 10h à 14h et le samedi 13 avril de 10h à 14h.  \nMerci du fond du cœur pour votre générosité et votre soutien. \nTous les vêtements en surplus seront déposés dans des bennes de collecte. \n  \nEnsemble\, faisons de notre monde un endroit meilleur. \nLa Capéchade
URL:https://lacapechade.org/agenda/collecte-de-vetements-et-de-livres/
LOCATION:La Capechade\, 1 avenue de la Marine\, Marseillan\, 34340
CATEGORIES:Événement associatif,Événement festif
ATTACH;FMTTYPE=image/png:https://lacapechade.org/wp-content/uploads/2024/03/collecte-vetements-3.png
ORGANIZER;CN="La Cap%C3%A9chade":MAILTO:foodlab.marseillan@gmail.com
END:VEVENT
BEGIN:VEVENT
DTSTART;TZID=Europe/Paris:20240413T100000
DTEND;TZID=Europe/Paris:20240413T140000
DTSTAMP:20260424T184331
CREATED:20240318T082816Z
LAST-MODIFIED:20240318T154556Z
UID:2005-1713002400-1713016800@lacapechade.org
SUMMARY:Collecte de vêtements et de livres
DESCRIPTION:🌟 Appel à la générosité ! 🌟 \n  \nNous recherchons des vêtements et des livres de cuisine et de jardinage en bon état\, lavés et prêts à trouver une nouvelle maison. Pas de maroquinerie\, pas de chaussures\, pas d’accessoires ni de sous-vêtements\, juste des vêtements et des livres qui ont encore beaucoup d’amour à donner ! \nAvec vos dons\, vous soutiendrez ‘Le grenier de La Capechade’\, une bourse destinée aux livres et aux vêtements qui aura lieu en mai. \nPour participer\, il vous suffit de déposer vos dons à La Capéchade 1 avenue de la Marine Marseillan le samedi 6 avril de 10h à 14h et le samedi 13 avril de 10h à 14h.  \nMerci du fond du cœur pour votre générosité et votre soutien. \nTous les vêtements en surplus seront déposés dans des bennes de collecte. \n  \nEnsemble\, faisons de notre monde un endroit meilleur. \nLa Capéchade
URL:https://lacapechade.org/agenda/collecte-de-vetements-et-de-livres-2/
LOCATION:La Capechade\, 1 avenue de la Marine\, Marseillan\, 34340
CATEGORIES:Événement associatif,Événement festif
ATTACH;FMTTYPE=image/png:https://lacapechade.org/wp-content/uploads/2024/03/collecte-vetements-3.png
ORGANIZER;CN="La Cap%C3%A9chade":MAILTO:foodlab.marseillan@gmail.com
END:VEVENT
END:VCALENDAR