BEGIN:VCALENDAR
VERSION:2.0
PRODID:-//La Capéchade - ECPv6.15.20//NONSGML v1.0//EN
CALSCALE:GREGORIAN
METHOD:PUBLISH
X-ORIGINAL-URL:https://lacapechade.org
X-WR-CALDESC:Évènements pour La Capéchade
REFRESH-INTERVAL;VALUE=DURATION:PT1H
X-Robots-Tag:noindex
X-PUBLISHED-TTL:PT1H
BEGIN:VTIMEZONE
TZID:Europe/Paris
BEGIN:DAYLIGHT
TZOFFSETFROM:+0100
TZOFFSETTO:+0200
TZNAME:CEST
DTSTART:20230326T010000
END:DAYLIGHT
BEGIN:STANDARD
TZOFFSETFROM:+0200
TZOFFSETTO:+0100
TZNAME:CET
DTSTART:20231029T010000
END:STANDARD
BEGIN:DAYLIGHT
TZOFFSETFROM:+0100
TZOFFSETTO:+0200
TZNAME:CEST
DTSTART:20240331T010000
END:DAYLIGHT
BEGIN:STANDARD
TZOFFSETFROM:+0200
TZOFFSETTO:+0100
TZNAME:CET
DTSTART:20241027T010000
END:STANDARD
BEGIN:DAYLIGHT
TZOFFSETFROM:+0100
TZOFFSETTO:+0200
TZNAME:CEST
DTSTART:20250330T010000
END:DAYLIGHT
BEGIN:STANDARD
TZOFFSETFROM:+0200
TZOFFSETTO:+0100
TZNAME:CET
DTSTART:20251026T010000
END:STANDARD
END:VTIMEZONE
BEGIN:VEVENT
DTSTART;TZID=Europe/Paris:20240326T140000
DTEND;TZID=Europe/Paris:20240326T153000
DTSTAMP:20260419T215349
CREATED:20240209T091823Z
LAST-MODIFIED:20240319T133558Z
UID:1938-1711461600-1711467000@lacapechade.org
SUMMARY:Atelier cuisine - Mardi anti-gaspi
DESCRIPTION:🌱 Rejoignez-nous pour notre atelier « Mardi anti-gaspi » le Mardi 26 mars\, à 14h! 🌿\n\n\n💡 Au programme :\n\n\n– Des conseils pratiques pour optimiser votre organisation en cuisine\n\n\n– Des astuces pour conserver vos aliments plus longtemps\n\n\n– Des recettes savoureuses pour utiliser les restes avec créativité\n\n\n \n\n\nC’est l’occasion parfaite de découvrir de nouvelles façons de réduire notre impact environnemental tout en économisant de l’argent !\n\n\n \n\n\nInscrivez-vous dès maintenant au 07 50 68 06 16 ou par mail :accueil@foodlab.org pour réserver votre place. 🌟
URL:https://lacapechade.org/agenda/atelier-cuisine-mardi-anti-gaspi-2/
LOCATION:La Capechade\, 1 avenue de la Marine\, Marseillan\, 34340
CATEGORIES:Ateliers anti-gaspi,Ateliers cuisine
ATTACH;FMTTYPE=image/png:https://lacapechade.org/wp-content/uploads/2024/02/Copie-de-Mardi-Anti-Gaspi.png
ORGANIZER;CN="La Cap%C3%A9chade":MAILTO:foodlab.marseillan@gmail.com
END:VEVENT
END:VCALENDAR