BEGIN:VCALENDAR
VERSION:2.0
PRODID:-//La Capéchade - ECPv6.15.20//NONSGML v1.0//EN
CALSCALE:GREGORIAN
METHOD:PUBLISH
X-WR-CALNAME:La Capéchade
X-ORIGINAL-URL:https://lacapechade.org
X-WR-CALDESC:Évènements pour La Capéchade
REFRESH-INTERVAL;VALUE=DURATION:PT1H
X-Robots-Tag:noindex
X-PUBLISHED-TTL:PT1H
BEGIN:VTIMEZONE
TZID:Europe/Paris
BEGIN:DAYLIGHT
TZOFFSETFROM:+0100
TZOFFSETTO:+0200
TZNAME:CEST
DTSTART:20250330T010000
END:DAYLIGHT
BEGIN:STANDARD
TZOFFSETFROM:+0200
TZOFFSETTO:+0100
TZNAME:CET
DTSTART:20251026T010000
END:STANDARD
BEGIN:DAYLIGHT
TZOFFSETFROM:+0100
TZOFFSETTO:+0200
TZNAME:CEST
DTSTART:20260329T010000
END:DAYLIGHT
BEGIN:STANDARD
TZOFFSETFROM:+0200
TZOFFSETTO:+0100
TZNAME:CET
DTSTART:20261025T010000
END:STANDARD
BEGIN:DAYLIGHT
TZOFFSETFROM:+0100
TZOFFSETTO:+0200
TZNAME:CEST
DTSTART:20270328T010000
END:DAYLIGHT
BEGIN:STANDARD
TZOFFSETFROM:+0200
TZOFFSETTO:+0100
TZNAME:CET
DTSTART:20271031T010000
END:STANDARD
END:VTIMEZONE
BEGIN:VEVENT
DTSTART;TZID=Europe/Paris:20260423T180000
DTEND;TZID=Europe/Paris:20260423T180000
DTSTAMP:20260423T013348
CREATED:20260330T100507Z
LAST-MODIFIED:20260331T093854Z
UID:3559-1776967200-1776967200@lacapechade.org
SUMMARY:Assemblée Générale de la Capéchade !
DESCRIPTION:Bonjour à toutes et à tous\, \nLe jeudi 23 avril\, retrouvons-nous pour l’Assemblée Générale de La Capéchade ! 🎉\n De 18h à 20h\, suivi d’un apéro préparé par le mardi antigaspi ! Rendez-vous au Théâtre Henri Maurin à Marseillan ! \nCette rencontre annuelle est essentielle pour notre association. C’est l’occasion de faire le bilan de nos actions\, d’échanger sur les projets à venir et de prendre des décisions importantes : validation des comptes\, renouvellement des instances dirigeantes et définition des grandes orientations. \nMais l’AG\, c’est aussi un moment de partage et de convivialité. Plus nous serons nombreux\, plus notre dynamique collective sera forte pour porter ensemble nos valeurs d’alimentation durable et solidaire ! 🌱🤝 \nInfos et inscription à accueil@lacapechade.org ou au 07 50 68 06 16 \n📅 Rendez-vous le 23 avril ! Venez nombreux pour faire vivre La Capéchade !
URL:https://lacapechade.org/agenda/assemblee-generale-de-la-capechade/
LOCATION:Place du théâtre Marseillan
ATTACH;FMTTYPE=image/png:https://lacapechade.org/wp-content/uploads/2026/03/AG.png
ORGANIZER;CN="La Cap%C3%A9chade":MAILTO:foodlab.marseillan@gmail.com
END:VEVENT
END:VCALENDAR